BEGIN:VCALENDAR
VERSION:2.0
PRODID:-//WordPress Website - ECPv6.15.20//NONSGML v1.0//EN
CALSCALE:GREGORIAN
METHOD:PUBLISH
X-WR-CALNAME:WordPress Website
X-ORIGINAL-URL:https://sabraham916.wpelitee.com
X-WR-CALDESC:Events for WordPress Website
REFRESH-INTERVAL;VALUE=DURATION:PT1H
X-Robots-Tag:noindex
X-PUBLISHED-TTL:PT1H
BEGIN:VTIMEZONE
TZID:UTC
BEGIN:STANDARD
TZOFFSETFROM:+0000
TZOFFSETTO:+0000
TZNAME:UTC
DTSTART:20250101T000000
END:STANDARD
END:VTIMEZONE
BEGIN:VEVENT
DTSTART;TZID=UTC:20260311T080000
DTEND;TZID=UTC:20260311T170000
DTSTAMP:20260420T122711
CREATED:20260311T070340Z
LAST-MODIFIED:20260311T070340Z
UID:1284-1773216000-1773248400@sabraham916.wpelitee.com
SUMMARY:2026 Alumni Reunion & Fundraising Gala
DESCRIPTION:Our yearly alumni reunion and fundraising gala for 2026 will be hosted by the Agazi Alumni\nAssociation N.A. Virginia Chapter.\nFull event details\, including the program schedule\, speakers\, and activities-will be shared as we get\ncloser to the date. \nHotel Accommodations\nFor those who would like to plan\, hotel accommodation is now available.\nThe host hotel offers complimentary breakfast and free parking\, providing a convenient and\ncomfortable stay for our guests.
URL:https://sabraham916.wpelitee.com/event/2026-alumni-reunion-fundraising-gala/
END:VEVENT
BEGIN:VEVENT
DTSTART;TZID=UTC:20260704T180000
DTEND;TZID=UTC:20260704T180000
DTSTAMP:20260420T122711
CREATED:20260222T033447Z
LAST-MODIFIED:20260222T033725Z
UID:486-1783188000-1783188000@sabraham916.wpelitee.com
SUMMARY:31st Agazi School Alumni Reunion – Fundraising & Celebration Night
DESCRIPTION:
URL:https://sabraham916.wpelitee.com/event/31st-agazi-school-alumni-reunion-fundraising-celebration-night/
LOCATION:Waterford Event Center\, 6715 Commerce Street\, Springfield\, VA 22150\, Virginia\, VA\, 22150\, United States
ATTACH;FMTTYPE=image/jpeg:https://sabraham916.wpelitee.com/wp-content/uploads/2026/02/IMG-20260218-WA0001.jpg
ORGANIZER;CN="Agazi School Alumni Committee":MAILTO:chairman@agazi.org
END:VEVENT
END:VCALENDAR